BEGIN:VCALENDAR
VERSION:2.0
PRODID:-//COMMUNITY ACTION AGENCY OF ST LOUIS COUNTY - ECPv6.15.20//NONSGML v1.0//EN
CALSCALE:GREGORIAN
METHOD:PUBLISH
X-ORIGINAL-URL:https://www.caastlc.org
X-WR-CALDESC:Events for COMMUNITY ACTION AGENCY OF ST LOUIS COUNTY
REFRESH-INTERVAL;VALUE=DURATION:PT1H
X-Robots-Tag:noindex
X-PUBLISHED-TTL:PT1H
BEGIN:VTIMEZONE
TZID:America/Chicago
BEGIN:DAYLIGHT
TZOFFSETFROM:-0600
TZOFFSETTO:-0500
TZNAME:CDT
DTSTART:20250309T080000
END:DAYLIGHT
BEGIN:STANDARD
TZOFFSETFROM:-0500
TZOFFSETTO:-0600
TZNAME:CST
DTSTART:20251102T070000
END:STANDARD
BEGIN:DAYLIGHT
TZOFFSETFROM:-0600
TZOFFSETTO:-0500
TZNAME:CDT
DTSTART:20260308T080000
END:DAYLIGHT
BEGIN:STANDARD
TZOFFSETFROM:-0500
TZOFFSETTO:-0600
TZNAME:CST
DTSTART:20261101T070000
END:STANDARD
BEGIN:DAYLIGHT
TZOFFSETFROM:-0600
TZOFFSETTO:-0500
TZNAME:CDT
DTSTART:20270314T080000
END:DAYLIGHT
BEGIN:STANDARD
TZOFFSETFROM:-0500
TZOFFSETTO:-0600
TZNAME:CST
DTSTART:20271107T070000
END:STANDARD
END:VTIMEZONE
BEGIN:VEVENT
DTSTART;TZID=America/Chicago:20260514T180000
DTEND;TZID=America/Chicago:20260514T190000
DTSTAMP:20260423T103706
CREATED:20251211T145648Z
LAST-MODIFIED:20251211T145648Z
UID:8406-1778781600-1778785200@www.caastlc.org
SUMMARY:Anger Management Class
DESCRIPTION:
URL:https://www.caastlc.org/event/anger-management-class-20/
LOCATION:CAASTLC\, 2709 Woodson Road\, Overland\, MO\, 63114\, United States
ATTACH;FMTTYPE=image/jpeg:https://www.caastlc.org/wp2023/wp-content/uploads/2025/02/anger-management-courses.jpg
END:VEVENT
BEGIN:VEVENT
DTSTART;TZID=America/Chicago:20260519T180000
DTEND;TZID=America/Chicago:20260519T190000
DTSTAMP:20260423T103706
CREATED:20251211T145343Z
LAST-MODIFIED:20251211T145343Z
UID:8401-1779213600-1779217200@www.caastlc.org
SUMMARY:Drug and Alcohol Class
DESCRIPTION:
URL:https://www.caastlc.org/event/drug-and-alcohol-class-19/
LOCATION:CAASTLC\, 2709 Woodson Road\, Overland\, MO\, 63114\, United States
ATTACH;FMTTYPE=image/jpeg:https://www.caastlc.org/wp2023/wp-content/uploads/2025/02/substance-abuse-and-veteran-suicide.jpg
END:VEVENT
BEGIN:VEVENT
DTSTART;TZID=America/Chicago:20260521T180000
DTEND;TZID=America/Chicago:20260521T190000
DTSTAMP:20260423T103706
CREATED:20251211T145722Z
LAST-MODIFIED:20251211T145722Z
UID:8405-1779386400-1779390000@www.caastlc.org
SUMMARY:Anger Management Class
DESCRIPTION:
URL:https://www.caastlc.org/event/anger-management-class-21/
LOCATION:CAASTLC\, 2709 Woodson Road\, Overland\, MO\, 63114\, United States
ATTACH;FMTTYPE=image/jpeg:https://www.caastlc.org/wp2023/wp-content/uploads/2025/02/anger-management-courses.jpg
END:VEVENT
BEGIN:VEVENT
DTSTART;TZID=America/Chicago:20260526T180000
DTEND;TZID=America/Chicago:20260526T190000
DTSTAMP:20260423T103706
CREATED:20251211T145413Z
LAST-MODIFIED:20251211T145413Z
UID:8400-1779818400-1779822000@www.caastlc.org
SUMMARY:Drug and Alcohol Class
DESCRIPTION:
URL:https://www.caastlc.org/event/drug-and-alcohol-class-20/
LOCATION:CAASTLC\, 2709 Woodson Road\, Overland\, MO\, 63114\, United States
ATTACH;FMTTYPE=image/jpeg:https://www.caastlc.org/wp2023/wp-content/uploads/2025/02/substance-abuse-and-veteran-suicide.jpg
END:VEVENT
BEGIN:VEVENT
DTSTART;TZID=America/Chicago:20260528T180000
DTEND;TZID=America/Chicago:20260528T190000
DTSTAMP:20260423T103706
CREATED:20251211T145805Z
LAST-MODIFIED:20251211T145805Z
UID:8404-1779991200-1779994800@www.caastlc.org
SUMMARY:Anger Management Class
DESCRIPTION:
URL:https://www.caastlc.org/event/anger-management-class-22/
LOCATION:CAASTLC\, 2709 Woodson Road\, Overland\, MO\, 63114\, United States
ATTACH;FMTTYPE=image/jpeg:https://www.caastlc.org/wp2023/wp-content/uploads/2025/02/anger-management-courses.jpg
END:VEVENT
BEGIN:VEVENT
DTSTART;TZID=America/Chicago:20260602T180000
DTEND;TZID=America/Chicago:20260602T190000
DTSTAMP:20260423T103706
CREATED:20251211T153127Z
LAST-MODIFIED:20251211T153127Z
UID:8423-1780423200-1780426800@www.caastlc.org
SUMMARY:Drug and Alcohol Class
DESCRIPTION:
URL:https://www.caastlc.org/event/drug-and-alcohol-class-21/
LOCATION:CAASTLC\, 2709 Woodson Road\, Overland\, MO\, 63114\, United States
ATTACH;FMTTYPE=image/jpeg:https://www.caastlc.org/wp2023/wp-content/uploads/2025/02/substance-abuse-and-veteran-suicide.jpg
END:VEVENT
BEGIN:VEVENT
DTSTART;TZID=America/Chicago:20260604T180000
DTEND;TZID=America/Chicago:20260604T190000
DTSTAMP:20260423T103706
CREATED:20251211T155135Z
LAST-MODIFIED:20251211T155135Z
UID:8475-1780596000-1780599600@www.caastlc.org
SUMMARY:Anger Management Class
DESCRIPTION:
URL:https://www.caastlc.org/event/anger-management-class-24/
LOCATION:CAASTLC\, 2709 Woodson Road\, Overland\, MO\, 63114\, United States
ATTACH;FMTTYPE=image/jpeg:https://www.caastlc.org/wp2023/wp-content/uploads/2025/02/anger-management-courses.jpg
END:VEVENT
BEGIN:VEVENT
DTSTART;TZID=America/Chicago:20260609T180000
DTEND;TZID=America/Chicago:20260609T190000
DTSTAMP:20260423T103706
CREATED:20251211T153147Z
LAST-MODIFIED:20251211T153147Z
UID:8422-1781028000-1781031600@www.caastlc.org
SUMMARY:Drug and Alcohol Class
DESCRIPTION:
URL:https://www.caastlc.org/event/drug-and-alcohol-class-22/
LOCATION:CAASTLC\, 2709 Woodson Road\, Overland\, MO\, 63114\, United States
ATTACH;FMTTYPE=image/jpeg:https://www.caastlc.org/wp2023/wp-content/uploads/2025/02/substance-abuse-and-veteran-suicide.jpg
END:VEVENT
BEGIN:VEVENT
DTSTART;TZID=America/Chicago:20260611T180000
DTEND;TZID=America/Chicago:20260611T190000
DTSTAMP:20260423T103706
CREATED:20251211T155256Z
LAST-MODIFIED:20251211T155256Z
UID:8476-1781200800-1781204400@www.caastlc.org
SUMMARY:Anger Management Class
DESCRIPTION:
URL:https://www.caastlc.org/event/anger-management-class-25/
LOCATION:CAASTLC\, 2709 Woodson Road\, Overland\, MO\, 63114\, United States
ATTACH;FMTTYPE=image/jpeg:https://www.caastlc.org/wp2023/wp-content/uploads/2025/02/anger-management-courses.jpg
END:VEVENT
BEGIN:VEVENT
DTSTART;TZID=America/Chicago:20260616T180000
DTEND;TZID=America/Chicago:20260616T190000
DTSTAMP:20260423T103706
CREATED:20251211T153208Z
LAST-MODIFIED:20251211T153208Z
UID:8421-1781632800-1781636400@www.caastlc.org
SUMMARY:Drug and Alcohol Class
DESCRIPTION:
URL:https://www.caastlc.org/event/drug-and-alcohol-class-23/
LOCATION:CAASTLC\, 2709 Woodson Road\, Overland\, MO\, 63114\, United States
ATTACH;FMTTYPE=image/jpeg:https://www.caastlc.org/wp2023/wp-content/uploads/2025/02/substance-abuse-and-veteran-suicide.jpg
END:VEVENT
BEGIN:VEVENT
DTSTART;TZID=America/Chicago:20260618T180000
DTEND;TZID=America/Chicago:20260618T190000
DTSTAMP:20260423T103706
CREATED:20251211T155413Z
LAST-MODIFIED:20251211T155413Z
UID:8481-1781805600-1781809200@www.caastlc.org
SUMMARY:Anger Management Class
DESCRIPTION:
URL:https://www.caastlc.org/event/anger-management-class-26/
LOCATION:CAASTLC\, 2709 Woodson Road\, Overland\, MO\, 63114\, United States
ATTACH;FMTTYPE=image/jpeg:https://www.caastlc.org/wp2023/wp-content/uploads/2025/02/anger-management-courses.jpg
END:VEVENT
BEGIN:VEVENT
DTSTART;TZID=America/Chicago:20260623T180000
DTEND;TZID=America/Chicago:20260623T190000
DTSTAMP:20260423T103706
CREATED:20251211T153225Z
LAST-MODIFIED:20251211T153225Z
UID:8420-1782237600-1782241200@www.caastlc.org
SUMMARY:Drug and Alcohol Class
DESCRIPTION:
URL:https://www.caastlc.org/event/drug-and-alcohol-class-24/
LOCATION:CAASTLC\, 2709 Woodson Road\, Overland\, MO\, 63114\, United States
ATTACH;FMTTYPE=image/jpeg:https://www.caastlc.org/wp2023/wp-content/uploads/2025/02/substance-abuse-and-veteran-suicide.jpg
END:VEVENT
BEGIN:VEVENT
DTSTART;TZID=America/Chicago:20260625T180000
DTEND;TZID=America/Chicago:20260625T190000
DTSTAMP:20260423T103706
CREATED:20251211T155444Z
LAST-MODIFIED:20251211T155458Z
UID:8483-1782410400-1782414000@www.caastlc.org
SUMMARY:Anger Management Class
DESCRIPTION:
URL:https://www.caastlc.org/event/anger-management-class-27/
LOCATION:CAASTLC\, 2709 Woodson Road\, Overland\, MO\, 63114\, United States
ATTACH;FMTTYPE=image/jpeg:https://www.caastlc.org/wp2023/wp-content/uploads/2025/02/anger-management-courses.jpg
END:VEVENT
BEGIN:VEVENT
DTSTART;TZID=America/Chicago:20260630T180000
DTEND;TZID=America/Chicago:20260630T190000
DTSTAMP:20260423T103706
CREATED:20251211T153245Z
LAST-MODIFIED:20251211T153245Z
UID:8419-1782842400-1782846000@www.caastlc.org
SUMMARY:Drug and Alcohol Class
DESCRIPTION:
URL:https://www.caastlc.org/event/drug-and-alcohol-class-25/
LOCATION:CAASTLC\, 2709 Woodson Road\, Overland\, MO\, 63114\, United States
ATTACH;FMTTYPE=image/jpeg:https://www.caastlc.org/wp2023/wp-content/uploads/2025/02/substance-abuse-and-veteran-suicide.jpg
END:VEVENT
BEGIN:VEVENT
DTSTART;TZID=America/Chicago:20260702T180000
DTEND;TZID=America/Chicago:20260702T190000
DTSTAMP:20260423T103706
CREATED:20251211T155623Z
LAST-MODIFIED:20251211T155623Z
UID:8488-1783015200-1783018800@www.caastlc.org
SUMMARY:Anger Management Class
DESCRIPTION:
URL:https://www.caastlc.org/event/anger-management-class-28/
LOCATION:CAASTLC\, 2709 Woodson Road\, Overland\, MO\, 63114\, United States
ATTACH;FMTTYPE=image/jpeg:https://www.caastlc.org/wp2023/wp-content/uploads/2025/02/anger-management-courses.jpg
END:VEVENT
BEGIN:VEVENT
DTSTART;TZID=America/Chicago:20260707T180000
DTEND;TZID=America/Chicago:20260707T190000
DTSTAMP:20260423T103706
CREATED:20251211T153334Z
LAST-MODIFIED:20251211T153334Z
UID:8432-1783447200-1783450800@www.caastlc.org
SUMMARY:Drug and Alcohol Class
DESCRIPTION:
URL:https://www.caastlc.org/event/drug-and-alcohol-class-26/
LOCATION:CAASTLC\, 2709 Woodson Road\, Overland\, MO\, 63114\, United States
ATTACH;FMTTYPE=image/jpeg:https://www.caastlc.org/wp2023/wp-content/uploads/2025/02/substance-abuse-and-veteran-suicide.jpg
END:VEVENT
BEGIN:VEVENT
DTSTART;TZID=America/Chicago:20260709T180000
DTEND;TZID=America/Chicago:20260709T190000
DTSTAMP:20260423T103706
CREATED:20251211T155643Z
LAST-MODIFIED:20251211T155643Z
UID:8487-1783620000-1783623600@www.caastlc.org
SUMMARY:Anger Management Class
DESCRIPTION:
URL:https://www.caastlc.org/event/anger-management-class-29/
LOCATION:CAASTLC\, 2709 Woodson Road\, Overland\, MO\, 63114\, United States
ATTACH;FMTTYPE=image/jpeg:https://www.caastlc.org/wp2023/wp-content/uploads/2025/02/anger-management-courses.jpg
END:VEVENT
BEGIN:VEVENT
DTSTART;TZID=America/Chicago:20260714T180000
DTEND;TZID=America/Chicago:20260714T190000
DTSTAMP:20260423T103706
CREATED:20251211T153351Z
LAST-MODIFIED:20251211T153351Z
UID:8431-1784052000-1784055600@www.caastlc.org
SUMMARY:Drug and Alcohol Class
DESCRIPTION:
URL:https://www.caastlc.org/event/drug-and-alcohol-class-27/
LOCATION:CAASTLC\, 2709 Woodson Road\, Overland\, MO\, 63114\, United States
ATTACH;FMTTYPE=image/jpeg:https://www.caastlc.org/wp2023/wp-content/uploads/2025/02/substance-abuse-and-veteran-suicide.jpg
END:VEVENT
BEGIN:VEVENT
DTSTART;TZID=America/Chicago:20260716T180000
DTEND;TZID=America/Chicago:20260716T190000
DTSTAMP:20260423T103706
CREATED:20251211T155719Z
LAST-MODIFIED:20251211T155719Z
UID:8486-1784224800-1784228400@www.caastlc.org
SUMMARY:Anger Management Class
DESCRIPTION:
URL:https://www.caastlc.org/event/anger-management-class-30/
LOCATION:CAASTLC\, 2709 Woodson Road\, Overland\, MO\, 63114\, United States
ATTACH;FMTTYPE=image/jpeg:https://www.caastlc.org/wp2023/wp-content/uploads/2025/02/anger-management-courses.jpg
END:VEVENT
BEGIN:VEVENT
DTSTART;TZID=America/Chicago:20260721T180000
DTEND;TZID=America/Chicago:20260721T190000
DTSTAMP:20260423T103706
CREATED:20251211T153409Z
LAST-MODIFIED:20251211T153409Z
UID:8430-1784656800-1784660400@www.caastlc.org
SUMMARY:Drug and Alcohol Class
DESCRIPTION:
URL:https://www.caastlc.org/event/drug-and-alcohol-class-28/
LOCATION:CAASTLC\, 2709 Woodson Road\, Overland\, MO\, 63114\, United States
ATTACH;FMTTYPE=image/jpeg:https://www.caastlc.org/wp2023/wp-content/uploads/2025/02/substance-abuse-and-veteran-suicide.jpg
END:VEVENT
BEGIN:VEVENT
DTSTART;TZID=America/Chicago:20260723T180000
DTEND;TZID=America/Chicago:20260723T190000
DTSTAMP:20260423T103706
CREATED:20251211T155758Z
LAST-MODIFIED:20251211T155758Z
UID:8485-1784829600-1784833200@www.caastlc.org
SUMMARY:Anger Management Class
DESCRIPTION:
URL:https://www.caastlc.org/event/anger-management-class-31/
LOCATION:CAASTLC\, 2709 Woodson Road\, Overland\, MO\, 63114\, United States
ATTACH;FMTTYPE=image/jpeg:https://www.caastlc.org/wp2023/wp-content/uploads/2025/02/anger-management-courses.jpg
END:VEVENT
BEGIN:VEVENT
DTSTART;TZID=America/Chicago:20260728T180000
DTEND;TZID=America/Chicago:20260728T190000
DTSTAMP:20260423T103706
CREATED:20251211T153424Z
LAST-MODIFIED:20251211T153424Z
UID:8429-1785261600-1785265200@www.caastlc.org
SUMMARY:Drug and Alcohol Class
DESCRIPTION:
URL:https://www.caastlc.org/event/drug-and-alcohol-class-29/
LOCATION:CAASTLC\, 2709 Woodson Road\, Overland\, MO\, 63114\, United States
ATTACH;FMTTYPE=image/jpeg:https://www.caastlc.org/wp2023/wp-content/uploads/2025/02/substance-abuse-and-veteran-suicide.jpg
END:VEVENT
BEGIN:VEVENT
DTSTART;TZID=America/Chicago:20260730T180000
DTEND;TZID=America/Chicago:20260730T190000
DTSTAMP:20260423T103706
CREATED:20251211T155826Z
LAST-MODIFIED:20251211T155826Z
UID:8493-1785434400-1785438000@www.caastlc.org
SUMMARY:Anger Management Class
DESCRIPTION:
URL:https://www.caastlc.org/event/anger-management-class-32/
LOCATION:CAASTLC\, 2709 Woodson Road\, Overland\, MO\, 63114\, United States
ATTACH;FMTTYPE=image/jpeg:https://www.caastlc.org/wp2023/wp-content/uploads/2025/02/anger-management-courses.jpg
END:VEVENT
BEGIN:VEVENT
DTSTART;TZID=America/Chicago:20260804T180000
DTEND;TZID=America/Chicago:20260804T190000
DTSTAMP:20260423T103706
CREATED:20251211T153455Z
LAST-MODIFIED:20251211T153455Z
UID:8418-1785866400-1785870000@www.caastlc.org
SUMMARY:Drug and Alcohol Class
DESCRIPTION:
URL:https://www.caastlc.org/event/drug-and-alcohol-class-30/
LOCATION:CAASTLC\, 2709 Woodson Road\, Overland\, MO\, 63114\, United States
ATTACH;FMTTYPE=image/jpeg:https://www.caastlc.org/wp2023/wp-content/uploads/2025/02/substance-abuse-and-veteran-suicide.jpg
END:VEVENT
BEGIN:VEVENT
DTSTART;TZID=America/Chicago:20260806T180000
DTEND;TZID=America/Chicago:20260806T190000
DTSTAMP:20260423T103706
CREATED:20251211T155926Z
LAST-MODIFIED:20251211T155926Z
UID:8496-1786039200-1786042800@www.caastlc.org
SUMMARY:Anger Management Class
DESCRIPTION:
URL:https://www.caastlc.org/event/anger-management-class-33/
LOCATION:CAASTLC\, 2709 Woodson Road\, Overland\, MO\, 63114\, United States
ATTACH;FMTTYPE=image/jpeg:https://www.caastlc.org/wp2023/wp-content/uploads/2025/02/anger-management-courses.jpg
END:VEVENT
BEGIN:VEVENT
DTSTART;TZID=America/Chicago:20260811T180000
DTEND;TZID=America/Chicago:20260811T190000
DTSTAMP:20260423T103706
CREATED:20251211T153516Z
LAST-MODIFIED:20251211T153516Z
UID:8417-1786471200-1786474800@www.caastlc.org
SUMMARY:Drug and Alcohol Class
DESCRIPTION:
URL:https://www.caastlc.org/event/drug-and-alcohol-class-31/
LOCATION:CAASTLC\, 2709 Woodson Road\, Overland\, MO\, 63114\, United States
ATTACH;FMTTYPE=image/jpeg:https://www.caastlc.org/wp2023/wp-content/uploads/2025/02/substance-abuse-and-veteran-suicide.jpg
END:VEVENT
BEGIN:VEVENT
DTSTART;TZID=America/Chicago:20260813T180000
DTEND;TZID=America/Chicago:20260813T190000
DTSTAMP:20260423T103706
CREATED:20251211T155956Z
LAST-MODIFIED:20251211T155956Z
UID:8495-1786644000-1786647600@www.caastlc.org
SUMMARY:Anger Management Class
DESCRIPTION:
URL:https://www.caastlc.org/event/anger-management-class-34/
LOCATION:CAASTLC\, 2709 Woodson Road\, Overland\, MO\, 63114\, United States
ATTACH;FMTTYPE=image/jpeg:https://www.caastlc.org/wp2023/wp-content/uploads/2025/02/anger-management-courses.jpg
END:VEVENT
BEGIN:VEVENT
DTSTART;TZID=America/Chicago:20260818T180000
DTEND;TZID=America/Chicago:20260818T190000
DTSTAMP:20260423T103706
CREATED:20251211T153538Z
LAST-MODIFIED:20251211T153538Z
UID:8416-1787076000-1787079600@www.caastlc.org
SUMMARY:Drug and Alcohol Class
DESCRIPTION:
URL:https://www.caastlc.org/event/drug-and-alcohol-class-32/
LOCATION:CAASTLC\, 2709 Woodson Road\, Overland\, MO\, 63114\, United States
ATTACH;FMTTYPE=image/jpeg:https://www.caastlc.org/wp2023/wp-content/uploads/2025/02/substance-abuse-and-veteran-suicide.jpg
END:VEVENT
BEGIN:VEVENT
DTSTART;TZID=America/Chicago:20260820T180000
DTEND;TZID=America/Chicago:20260820T190000
DTSTAMP:20260423T103706
CREATED:20251211T160043Z
LAST-MODIFIED:20251211T160043Z
UID:8500-1787248800-1787252400@www.caastlc.org
SUMMARY:Anger Management Class
DESCRIPTION:
URL:https://www.caastlc.org/event/anger-management-class-35/
LOCATION:CAASTLC\, 2709 Woodson Road\, Overland\, MO\, 63114\, United States
ATTACH;FMTTYPE=image/jpeg:https://www.caastlc.org/wp2023/wp-content/uploads/2025/02/anger-management-courses.jpg
END:VEVENT
BEGIN:VEVENT
DTSTART;TZID=America/Chicago:20260825T180000
DTEND;TZID=America/Chicago:20260825T190000
DTSTAMP:20260423T103706
CREATED:20251211T153602Z
LAST-MODIFIED:20251211T153602Z
UID:8415-1787680800-1787684400@www.caastlc.org
SUMMARY:Drug and Alcohol Class
DESCRIPTION:
URL:https://www.caastlc.org/event/drug-and-alcohol-class-33/
LOCATION:CAASTLC\, 2709 Woodson Road\, Overland\, MO\, 63114\, United States
ATTACH;FMTTYPE=image/jpeg:https://www.caastlc.org/wp2023/wp-content/uploads/2025/02/substance-abuse-and-veteran-suicide.jpg
END:VEVENT
END:VCALENDAR